View In:
ArcGIS JavaScript
ArcGIS Online Map Viewer
ArcGIS Earth
ArcMap
View Footprint In:
ArcGIS Online Map Viewer
Service Description: Imagery/Aerial2023_test
Name: Imagery/Aerial2023_test
Description:
Single Fused Map Cache: false
Extent:
XMin: 470000
YMin: 1123472
XMax: 680000
YMax: 1210000
Spatial Reference: PROJCS["NAD_1983_2011_StatePlane_Florida_East_FIPS_0901_Ft_US",GEOGCS["GCS_NAD83_2011",DATUM["D_NAD83_National_Spatial_Reference_System_2011",SPHEROID["GRS_1980",6378137.0,298.257222101]],PRIMEM["Greenwich",0.0],UNIT["Degree",0.0174532925199433]],PROJECTION["Transverse_Mercator"],PARAMETER["false_easting",656166.667],PARAMETER["false_northing",0.0],PARAMETER["central_meridian",-81.0],PARAMETER["scale_factor",0.999941177],PARAMETER["latitude_of_origin",24.33333333333333],UNIT["Foot_US",0.3048006096012192]]
Initial Extent:
XMin: 470000
YMin: 1123472
XMax: 680000
YMax: 1210000
Spatial Reference: PROJCS["NAD_1983_2011_StatePlane_Florida_East_FIPS_0901_Ft_US",GEOGCS["GCS_NAD83_2011",DATUM["D_NAD83_National_Spatial_Reference_System_2011",SPHEROID["GRS_1980",6378137.0,298.257222101]],PRIMEM["Greenwich",0.0],UNIT["Degree",0.0174532925199433]],PROJECTION["Transverse_Mercator"],PARAMETER["false_easting",656166.667],PARAMETER["false_northing",0.0],PARAMETER["central_meridian",-81.0],PARAMETER["scale_factor",0.999941177],PARAMETER["latitude_of_origin",24.33333333333333],UNIT["Foot_US",0.3048006096012192]]
Full Extent:
XMin: 470000
YMin: 1123472
XMax: 680000
YMax: 1210000
Spatial Reference: PROJCS["NAD_1983_2011_StatePlane_Florida_East_FIPS_0901_Ft_US",GEOGCS["GCS_NAD83_2011",DATUM["D_NAD83_National_Spatial_Reference_System_2011",SPHEROID["GRS_1980",6378137.0,298.257222101]],PRIMEM["Greenwich",0.0],UNIT["Degree",0.0174532925199433]],PROJECTION["Transverse_Mercator"],PARAMETER["false_easting",656166.667],PARAMETER["false_northing",0.0],PARAMETER["central_meridian",-81.0],PARAMETER["scale_factor",0.999941177],PARAMETER["latitude_of_origin",24.33333333333333],UNIT["Foot_US",0.3048006096012192]]
Pixel Size X: 0.5
Pixel Size Y: 0.5
Band Count: 3
Pixel Type: U8
RasterFunction Infos: {"rasterFunctionInfos": [{
"name": "None",
"description": "",
"help": ""
}]}
Mensuration Capabilities:
Has Histograms: false
Has Colormap: false
Has Multi Dimensions : false
Rendering Rule:
Min Scale: 0
Max Scale: 0
Copyright Text:
Service Data Type: esriImageServiceDataTypeRGB
Min Values: N/A
Max Values: N/A
Mean Values: N/A
Standard Deviation Values: N/A
Object ID Field:
Fields:
None
Default Mosaic Method: Northwest
Allowed Mosaic Methods: NorthWest,Center,LockRaster,ByAttribute,Nadir,Viewpoint,Seamline,None
SortField:
SortValue: null
Mosaic Operator: First
Default Compression Quality: 75
Default Resampling Method: Bilinear
Max Record Count: 1000
Max Image Height: 4100
Max Image Width: 15000
Max Download Image Count: 20
Max Mosaic Image Count: 20
Allow Raster Function: true
Allow Copy: true
Allow Analysis: true
Allow Compute TiePoints: false
Supports Statistics: false
Supports Advanced Queries: false
Use StandardizedQueries: true
Raster Type Infos:
Name: Raster Dataset
Description: Supports all ArcGIS Raster Datasets
Help:
Has Raster Attribute Table: false
Edit Fields Info: null
Ownership Based AccessControl For Rasters: null
Child Resources:
Info
Statistics
Key Properties
Legend
Raster Function Infos
Supported Operations:
Export Image
Query
Identify
Compute Histograms
Compute Statistics Histograms
Get Samples
Compute Class Statistics
Query Boundary
Compute Pixel Location
Validate
Project